BEGIN:VCALENDAR
VERSION:2.0
PRODID:-//Tukios.com/
BEGIN:VEVENT
UID:3e4194f0-114b-4a56-ab33-04fc9a203715@www.wilbrahamfuneralhome.com
DTSTAMP:20260423T213219Z
DTSTART:20260509T173000Z
DTEND:20260509T200000Z
SUMMARY:Celebration of Life
DESCRIPTION:
URL:https://www.wilbrahamfuneralhome.com/obituaries/ursula-whyte-gibb
LOCATION:Wilbraham Country Club 859 Stony Hill Road  Wilbraham MA 01095
GEO:42.113649;-72.4591002
END:VEVENT
END:VCALENDAR