BEGIN:VCALENDAR
VERSION:2.0
PRODID:-//Tukios.com/
BEGIN:VEVENT
UID:12a6abc0-b8a6-4cb4-8602-e64998c1be08@www.wilbrahamfuneralhome.com
DTSTAMP:20260420T045824Z
DTSTART:20260425T140000Z
DTEND:20260425T150000Z
SUMMARY:Mass
DESCRIPTION:
URL:https://www.wilbrahamfuneralhome.com/obituaries/christopher-rodriguez
LOCATION:St. Cecilia Church 42 Main Street  Wilbraham MA 01095
GEO:42.1477654;-72.4266104
END:VEVENT
END:VCALENDAR