BEGIN:VCALENDAR
VERSION:2.0
PRODID:-//Tukios.com/
BEGIN:VEVENT
UID:45cb6922-4a3f-4d73-9329-aada8ef01995@www.wilbrahamfuneralhome.com
DTSTAMP:20260420T050214Z
DTSTART:20260425T130000Z
DTEND:20260425T140000Z
SUMMARY:Pre funeral gathering
DESCRIPTION:
URL:https://www.wilbrahamfuneralhome.com/obituaries/christopher-rodriguez
LOCATION: 2551 Boston Rd  Wilbraham MA 01095
GEO:42.1480425;-72.4388067
END:VEVENT
END:VCALENDAR