BEGIN:VCALENDAR
VERSION:2.0
PRODID:-//Tukios.com/
BEGIN:VEVENT
UID:3d9612b7-ee96-4939-aee6-c4d909ee9c63@www.wilbrahamfuneralhome.com
DTSTAMP:20260420T050122Z
DTSTART:20260424T200000Z
DTEND:20260424T220000Z
SUMMARY:Visitation
DESCRIPTION:
URL:https://www.wilbrahamfuneralhome.com/obituaries/christopher-rodriguez
LOCATION:Wilbraham Funeral Home 2551 Boston Rd  Wilbraham MA 01095
GEO:42.1480425;-72.4388067
END:VEVENT
END:VCALENDAR